PDS_VERSION_ID = PDS3
RECORD_TYPE = FIXED_LENGTH
RECORD_BYTES = 3682
FILE_RECORDS = 15655
DATA_SET_ID = "LRO-L-LROC-5-RDR-V1.0"
DATA_SET_NAME = "LRO MOON LROC 5 RDR V1.0"
VOLUME_ID = "LROLRC_2001"
PRODUCER_INSTITUTE_NAME = "ARIZONA STATE UNIVERSITY"
PRODUCER_ID = LRO_LROC_TEAM
PRODUCER_FULL_NAME = "MARK ROBINSON, PH.D"
PRODUCT_ID = "NAC_DTM_NRTHCRTRIII_SHADE"
PRODUCT_VERSION_ID = "v1.9"
PRODUCT_TYPE = RDR
INSTRUMENT_HOST_NAME = "LUNAR RECONNAISSANCE ORBITER"
INSTRUMENT_HOST_ID = "LRO"
INSTRUMENT_NAME = "LUNAR RECONNAISSANCE ORBITER CAMERA"
INSTRUMENT_ID = "LROC"
TARGET_NAME = "MOON"
MISSION_PHASE_NAME = "SCIENCE MISSION"
RATIONALE_DESC = "Created to enable lunar science and exploration activities"
SOFTWARE_NAME = "ISIS 3.2.1, 3.4.11.6414 with SER enhancements | SOCET SET v5.5 (c) BAE Systems | GDAL"
START_TIME = 2012-04-02T10:19:54
STOP_TIME = 2012-04-03T06:12:20
SPACECRAFT_CLOCK_START_COUNT = "N/A"
SPACECRAFT_CLOCK_STOP_COUNT = "N/A"
PRODUCT_CREATION_TIME = 2020-10-10T09:13:02
^IMAGE = ("NAC_DTM_NRTHCRTRIII_SHADE.TIF", 66931 )
OBJECT = IMAGE_MAP_PROJECTION
  ^DATA_SET_MAP_PROJECTION = "DSMAP.CAT"
  MAP_PROJECTION_TYPE = "POLARSTEREOGRAPHIC"
  PROJECTION_LATITUDE_TYPE = PLANETOCENTRIC
  A_AXIS_RADIUS = 1737.4
  B_AXIS_RADIUS = 1737.4
  C_AXIS_RADIUS = 1737.4
  COORDINATE_SYSTEM_NAME = PLANETOCENTRIC
  POSITIVE_LONGITUDE_DIRECTION = EAST
  KEYWORD_LATITUDE_TYPE = PLANETOCENTRIC
  CENTER_LATITUDE = 74.4
  CENTER_LONGITUDE = 34.7
  LINE_FIRST_PIXEL = 1
  LINE_LAST_PIXEL = 15655
  SAMPLE_FIRST_PIXEL = 1
  SAMPLE_LAST_PIXEL = 3682
  MAP_PROJECTION_ROTATION = 0.0
  MAP_RESOLUTION = 5053.89173736
  MAP_SCALE = 5.9999999999979
  MAXIMUM_LATITUDE = 75.9377926
  MINIMUM_LATITUDE = 72.8413292
  EASTERNMOST_LONGITUDE = 36.204641
  WESTERNMOST_LONGITUDE = 33.195359
  LINE_PROJECTION_OFFSET = -70088.5
  SAMPLE_PROJECTION_OFFSET = 1840.5
END_OBJECT = IMAGE_MAP_PROJECTION
OBJECT = IMAGE
  DESCRIPTION = "North Crater III shaded-relief derived from NAC digital terrain models. Image is a GeoTIFF image, 8 bits/sample, 1 samples/pixel in single image plane configuration. For more info, see [HENRIKSENETAL2017]."
  INTERCHANGE_FORMAT = BINARY
  LINES = 15655
  LINE_SAMPLES = 3682
  SAMPLE_TYPE = MSB_UNSIGNED_INTEGER
  SAMPLE_BITS = 8
  BAND_STORAGE_TYPE = SAMPLE_INTERLEAVED
  BANDS = 1
  FILTER_NAME = "N/A"
END_OBJECT = IMAGE
END
