PDS_VERSION_ID = PDS3
RECORD_TYPE = FIXED_LENGTH
RECORD_BYTES = 16413
FILE_RECORDS = 27585
DATA_SET_ID = "LRO-L-LROC-5-RDR-V1.0"
DATA_SET_NAME = "LRO MOON LROC 5 RDR V1.0"
VOLUME_ID = "LROLRC_2001"
PRODUCER_INSTITUTE_NAME = "ARIZONA STATE UNIVERSITY"
PRODUCER_ID = LRO_LROC_TEAM
PRODUCER_FULL_NAME = "MARK ROBINSON, PH.D"
PRODUCT_ID = "NAC_DTM_HSCARP_SHADE"
PRODUCT_VERSION_ID = "v1.9"
PRODUCT_TYPE = RDR
INSTRUMENT_HOST_NAME = "LUNAR RECONNAISSANCE ORBITER"
INSTRUMENT_HOST_ID = "LRO"
INSTRUMENT_NAME = "LUNAR RECONNAISSANCE ORBITER CAMERA"
INSTRUMENT_ID = "LROC"
TARGET_NAME = "MOON"
MISSION_PHASE_NAME = "SCIENCE MISSION, EXTENDED SCIENCE MISSION"
RATIONALE_DESC = "Created to enable lunar science and exploration activities"
SOFTWARE_NAME = "ISIS 3.4.3, 3.8.1, 3.4.4.5390 with SER enhancements | SOCET SET v5.5 (c) BAE Systems | GDAL"
START_TIME = 2012-04-10T02:17:29
STOP_TIME = 2014-03-20T08:18:55
SPACECRAFT_CLOCK_START_COUNT = "N/A"
SPACECRAFT_CLOCK_STOP_COUNT = "N/A"
PRODUCT_CREATION_TIME = 2020-10-13T13:48:38
^IMAGE = ("NAC_DTM_HSCARP_SHADE.TIF", 221314 )
OBJECT = IMAGE_MAP_PROJECTION
  ^DATA_SET_MAP_PROJECTION = "DSMAP.CAT"
  MAP_PROJECTION_TYPE = "EQUIRECTANGULAR"
  PROJECTION_LATITUDE_TYPE = PLANETOCENTRIC
  A_AXIS_RADIUS = 1737.4
  B_AXIS_RADIUS = 1737.4
  C_AXIS_RADIUS = 1737.4
  COORDINATE_SYSTEM_NAME = PLANETOCENTRIC
  POSITIVE_LONGITUDE_DIRECTION = EAST
  KEYWORD_LATITUDE_TYPE = PLANETOCENTRIC
  CENTER_LATITUDE = -51.0
  CENTER_LONGITUDE = 180.0
  LINE_FIRST_PIXEL = 1
  LINE_LAST_PIXEL = 27585
  SAMPLE_FIRST_PIXEL = 1
  SAMPLE_LAST_PIXEL = 16413
  MAP_PROJECTION_ROTATION = 0.0
  MAP_RESOLUTION = 15161.67521207
  MAP_SCALE = 2.0000000000006
  MAXIMUM_LATITUDE = -49.3087333
  MINIMUM_LATITUDE = -51.1281233
  EASTERNMOST_LONGITUDE = 292.3651656
  WESTERNMOST_LONGITUDE = 290.6450051
  LINE_PROJECTION_OFFSET = -747603.49999998
  SAMPLE_PROJECTION_OFFSET = -1055725.5
END_OBJECT = IMAGE_MAP_PROJECTION
OBJECT = IMAGE
  DESCRIPTION = "Highland Scarp shaded-relief derived from NAC digital terrain models. Image is a GeoTIFF image, 8 bits/sample, 1 samples/pixel in single image plane configuration. For more info, see [HENRIKSENETAL2017]."
  INTERCHANGE_FORMAT = BINARY
  LINES = 27585
  LINE_SAMPLES = 16413
  SAMPLE_TYPE = MSB_UNSIGNED_INTEGER
  SAMPLE_BITS = 8
  BAND_STORAGE_TYPE = SAMPLE_INTERLEAVED
  BANDS = 1
  FILTER_NAME = "N/A"
END_OBJECT = IMAGE
END
