PDS_VERSION_ID = PDS3
RECORD_TYPE = FIXED_LENGTH
RECORD_BYTES = 11620
FILE_RECORDS = 16310
DATA_SET_ID = "LRO-L-LROC-5-RDR-V1.0"
DATA_SET_NAME = "LRO MOON LROC 5 RDR V1.0"
VOLUME_ID = "LROLRC_2001"
PRODUCER_INSTITUTE_NAME = "ARIZONA STATE UNIVERSITY"
PRODUCER_ID = LRO_LROC_TEAM
PRODUCER_FULL_NAME = "MARK ROBINSON, PH.D"
PRODUCT_ID = "NAC_DTM_CHAPLYGIN2"
PRODUCT_VERSION_ID = "v1.9"
PRODUCT_TYPE = RDR
INSTRUMENT_HOST_NAME = "LUNAR RECONNAISSANCE ORBITER"
INSTRUMENT_HOST_ID = "LRO"
INSTRUMENT_NAME = "LUNAR RECONNAISSANCE ORBITER CAMERA"
INSTRUMENT_ID = "LROC"
TARGET_NAME = "MOON"
MISSION_PHASE_NAME = "SCIENCE MISSION"
RATIONALE_DESC = "Created to enable lunar science and exploration activities"
SOFTWARE_NAME = "ISIS 3.8.1, 3.4.4.5390 with SER enhancements | SOCET SET v5.5 (c) BAE Systems | GDAL"
START_TIME = 2011-02-09T09:04:36
STOP_TIME = 2011-02-09T10:57:59
SPACECRAFT_CLOCK_START_COUNT = "N/A"
SPACECRAFT_CLOCK_STOP_COUNT = "N/A"
PRODUCT_CREATION_TIME = 2020-10-10T23:59:46
^IMAGE = ("NAC_DTM_CHAPLYGIN2.TIF", 131152 )
OBJECT = IMAGE_MAP_PROJECTION
  ^DATA_SET_MAP_PROJECTION = "DSMAP.CAT"
  MAP_PROJECTION_TYPE = "EQUIRECTANGULAR"
  PROJECTION_LATITUDE_TYPE = PLANETOCENTRIC
  A_AXIS_RADIUS = 1737.4
  B_AXIS_RADIUS = 1737.4
  C_AXIS_RADIUS = 1737.4
  COORDINATE_SYSTEM_NAME = PLANETOCENTRIC
  POSITIVE_LONGITUDE_DIRECTION = EAST
  KEYWORD_LATITUDE_TYPE = PLANETOCENTRIC
  CENTER_LATITUDE = -4.0
  CENTER_LONGITUDE = 180.0
  LINE_FIRST_PIXEL = 1
  LINE_LAST_PIXEL = 16310
  SAMPLE_FIRST_PIXEL = 1
  SAMPLE_LAST_PIXEL = 2905
  MAP_PROJECTION_ROTATION = 0.0
  MAP_RESOLUTION = 15161.67521207
  MAP_SCALE = 2.0000000000006
  MAXIMUM_LATITUDE = -3.5905663
  MINIMUM_LATITUDE = -4.6663049
  EASTERNMOST_LONGITUDE = 151.8256354
  WESTERNMOST_LONGITUDE = 151.633566
  LINE_PROJECTION_OFFSET = -54439.499999999
  SAMPLE_PROJECTION_OFFSET = 429034.5
END_OBJECT = IMAGE_MAP_PROJECTION
OBJECT = IMAGE
  DESCRIPTION = "Chaplygin NE Rim (2) high-resolution NAC digital terrain model in GeoTIFF format. DEM is IEEE floating point GeoTIFF, 32 bits/sample, 1 samples/pixel in single image plane configuration. The NoDATA value is -3.40282266e+038. For more info, see [HENRIKSENETAL2017]."
  INTERCHANGE_FORMAT = BINARY
  LINES = 16310
  LINE_SAMPLES = 2905
  SAMPLE_TYPE = PC_REAL
  SAMPLE_BITS = 32
  BAND_STORAGE_TYPE = SAMPLE_INTERLEAVED
  BANDS = 1
  FILTER_NAME = "N/A"
END_OBJECT = IMAGE
END
